BEGIN:VCALENDAR
VERSION:2.0
PRODID:-//La Carta Malacitana - ECPv6.15.20//NONSGML v1.0//EN
CALSCALE:GREGORIAN
METHOD:PUBLISH
X-WR-CALNAME:La Carta Malacitana
X-ORIGINAL-URL:https://www.lacartamalacitana.org
X-WR-CALDESC:Eventos para La Carta Malacitana
REFRESH-INTERVAL;VALUE=DURATION:PT1H
X-Robots-Tag:noindex
X-PUBLISHED-TTL:PT1H
BEGIN:VTIMEZONE
TZID:Europe/Madrid
BEGIN:DAYLIGHT
TZOFFSETFROM:+0100
TZOFFSETTO:+0200
TZNAME:CEST
DTSTART:20250330T010000
END:DAYLIGHT
BEGIN:STANDARD
TZOFFSETFROM:+0200
TZOFFSETTO:+0100
TZNAME:CET
DTSTART:20251026T010000
END:STANDARD
BEGIN:DAYLIGHT
TZOFFSETFROM:+0100
TZOFFSETTO:+0200
TZNAME:CEST
DTSTART:20260329T010000
END:DAYLIGHT
BEGIN:STANDARD
TZOFFSETFROM:+0200
TZOFFSETTO:+0100
TZNAME:CET
DTSTART:20261025T010000
END:STANDARD
BEGIN:DAYLIGHT
TZOFFSETFROM:+0100
TZOFFSETTO:+0200
TZNAME:CEST
DTSTART:20270328T010000
END:DAYLIGHT
BEGIN:STANDARD
TZOFFSETFROM:+0200
TZOFFSETTO:+0100
TZNAME:CET
DTSTART:20271031T010000
END:STANDARD
END:VTIMEZONE
BEGIN:VEVENT
DTSTART;TZID=Europe/Madrid:20260428T190000
DTEND;TZID=Europe/Madrid:20260428T210000
DTSTAMP:20260423T142612
CREATED:20260415T131315Z
LAST-MODIFIED:20260416T102524Z
UID:8801-1777402800-1777410000@www.lacartamalacitana.org
SUMMARY:TERTULIA LCM CIII: "Origen e Historia de la DOP Aceituna Aloreña de Málaga"
DESCRIPTION:CONFERENCIA LCM:\n\nMartes\, 28 de abril 2026\nHorario: 19:00 – 21:00  \nLugar: Fábrica de Cervezas Victoria \nPonentes: \n\nD. Juan Miguel Gómez Trujillo\, Presidente de la DOP Aceituna Aloreña de Málaga\nDña. Margarita Jiménez Gómez\, Secretaria General de la DOP Aceituna Aloreña de Málaga\n\nModera: \n\nMarcos Chacón\, periodista gastronómico\, vocal de la Junta Directiva de LCM.\n\n* Cata dirigida de Aceitunas Aloreñas de Málaga Verdes Frescas\, Tradicionales y Curadas\, degustación de cervezas Victoria
URL:https://www.lacartamalacitana.org/evento/aceitunas-alorenas/
LOCATION:Fábrica de Cervezas Victoria\, Avenida de Velázquez 215\, Málaga\, Málaga\, 29004\, Spain
END:VEVENT
END:VCALENDAR